BEGIN:VCALENDAR
VERSION:2.0
PRODID:-//HEIA - ECPv6.15.18//NONSGML v1.0//EN
CALSCALE:GREGORIAN
METHOD:PUBLISH
X-ORIGINAL-URL:https://eesti.org.au
X-WR-CALDESC:Events for HEIA
REFRESH-INTERVAL;VALUE=DURATION:PT1H
X-Robots-Tag:noindex
X-PUBLISHED-TTL:PT1H
BEGIN:VTIMEZONE
TZID:Australia/Sydney
BEGIN:STANDARD
TZOFFSETFROM:+1100
TZOFFSETTO:+1000
TZNAME:AEST
DTSTART:20240406T160000
END:STANDARD
BEGIN:DAYLIGHT
TZOFFSETFROM:+1000
TZOFFSETTO:+1100
TZNAME:AEDT
DTSTART:20241005T160000
END:DAYLIGHT
BEGIN:STANDARD
TZOFFSETFROM:+1100
TZOFFSETTO:+1000
TZNAME:AEST
DTSTART:20250405T160000
END:STANDARD
BEGIN:DAYLIGHT
TZOFFSETFROM:+1000
TZOFFSETTO:+1100
TZNAME:AEDT
DTSTART:20251004T160000
END:DAYLIGHT
BEGIN:STANDARD
TZOFFSETFROM:+1100
TZOFFSETTO:+1000
TZNAME:AEST
DTSTART:20260404T160000
END:STANDARD
BEGIN:DAYLIGHT
TZOFFSETFROM:+1000
TZOFFSETTO:+1100
TZNAME:AEDT
DTSTART:20261003T160000
END:DAYLIGHT
END:VTIMEZONE
BEGIN:VEVENT
DTSTART;TZID=Australia/Sydney:20251201T180000
DTEND;TZID=Australia/Sydney:20251201T210000
DTSTAMP:20260420T004923
CREATED:20251109T232022Z
LAST-MODIFIED:20251203T014940Z
UID:68398-1764612000-1764622800@eesti.org.au
SUMMARY:„Virmalised“ rahvatantsu proov | Folkdancing rehearsals
DESCRIPTION:Join us in 2025!\nWhether you’re new to Estonian dancing\, or rejoining after a hiatus\, now is the perfect time to join!\nInterested?\nContact us – sydney.virmalised@gmail.com\, @sydneyvirmalised on Instagram or Virmalised – Sydney Estonian Folk Dancers on Facebook/Messenger\n 
URL:https://eesti.org.au/event-detail/virmalised-rahvatantsu-proov-folkdancing-rehearsals-12/
LOCATION:Sydney Estonian House\, 141 Campbell St\, Surry Hills\, NSW\, 2010\, Australia
CATEGORIES:Casual,Community,Dancing,NSW Events
ATTACH;FMTTYPE=image/jpeg:https://eesti.org.au/wp-content/uploads/2025/10/3cd10f95-d1b5-4ec0-af42-78fafd126090-Wg4ObB.jpg
END:VEVENT
BEGIN:VEVENT
DTSTART;TZID=Australia/Sydney:20251206T133000
DTEND;TZID=Australia/Sydney:20251206T150000
DTSTAMP:20260420T004923
CREATED:20251116T002008Z
LAST-MODIFIED:20251202T231919Z
UID:68520-1765027800-1765033200@eesti.org.au
SUMMARY:„Rukkililled“ rahvatantsu proov | Ladies Folk Dancing Rehearsals
DESCRIPTION:Led by Steven Buchert\, the Rukkililled Ladies Group performs traditional Estonian folk dancing at Sydney Estonian House.
URL:https://eesti.org.au/event-detail/rukkililled-rahvatantsu-proov-ladies-folk-dancing-rehearsals-6/
LOCATION:Main hall / Ballroom
CATEGORIES:Community,Culture,Dancing,Music,NSW Events,Singing
ATTACH;FMTTYPE=image/jpeg:https://eesti.org.au/wp-content/uploads/2025/10/db07400a-c9d2-4c14-8c6b-937511cd3d44-sa8FIc.jpg
ORGANIZER;CN="Steven Buchert":MAILTO:stevenb@ozemail.com.au
END:VEVENT
BEGIN:VEVENT
DTSTART;TZID=Australia/Sydney:20251207T143000
DTEND;TZID=Australia/Sydney:20251207T160000
DTSTAMP:20260420T004923
CREATED:20251116T220957Z
LAST-MODIFIED:20251203T033805Z
UID:68566-1765117800-1765123200@eesti.org.au
SUMMARY:Laste rahvatants - Estonian Children's Folkdancingf
DESCRIPTION:UUS laste rahvatantsurühm LEPATRIINUD alustab 9. veebruaril 2025 kl 14.30-16 Sydney Eesti Majas!NEW Estonian Children’s Folkdancing classes every 2nd Sunday of the month at 2.30-4pm at Sydney Estonian House!Contact Maali 0426 836 547
URL:https://eesti.org.au/event-detail/laste-rahvatants-estonian-childrens-folkdancing-3/
LOCATION:141 Campbell St\, Surry Hills\, 2010\, Australia
CATEGORIES:Community,Culture,Dancing,NSW Events
ATTACH;FMTTYPE=image/jpeg:https://eesti.org.au/wp-content/uploads/2025/01/8c00dc36-b3aa-41fc-ab80-65cd43f871ac-9kC2Gj.tmp_.jpg
ORGANIZER;CN="Virmalised - Sydney Estonian Folk Dancers":MAILTO:sydney.virmalised@gmail.com
END:VEVENT
BEGIN:VEVENT
DTSTART;TZID=Australia/Sydney:20251208T180000
DTEND;TZID=Australia/Sydney:20251208T210000
DTSTAMP:20260420T004923
CREATED:20251116T221501Z
LAST-MODIFIED:20251203T014940Z
UID:68572-1765216800-1765227600@eesti.org.au
SUMMARY:„Virmalised“ rahvatantsu proov | Folkdancing rehearsals
DESCRIPTION:Join us in 2025!\nWhether you’re new to Estonian dancing\, or rejoining after a hiatus\, now is the perfect time to join!\nInterested?\nContact us – sydney.virmalised@gmail.com\, @sydneyvirmalised on Instagram or Virmalised – Sydney Estonian Folk Dancers on Facebook/Messenger\n 
URL:https://eesti.org.au/event-detail/virmalised-rahvatantsu-proov-folkdancing-rehearsals-13/
CATEGORIES:Casual,Community,Dancing,NSW Events
ATTACH;FMTTYPE=image/jpeg:https://eesti.org.au/wp-content/uploads/2025/10/3cd10f95-d1b5-4ec0-af42-78fafd126090-Wg4ObB.jpg
END:VEVENT
BEGIN:VEVENT
DTSTART;TZID=Australia/Sydney:20251215T180000
DTEND;TZID=Australia/Sydney:20251215T210000
DTSTAMP:20260420T004923
CREATED:20251116T221502Z
LAST-MODIFIED:20251203T014940Z
UID:68580-1765821600-1765832400@eesti.org.au
SUMMARY:„Virmalised“ rahvatantsu proov | Folkdancing rehearsals
DESCRIPTION:Join us in 2025!\nWhether you’re new to Estonian dancing\, or rejoining after a hiatus\, now is the perfect time to join!\nInterested?\nContact us – sydney.virmalised@gmail.com\, @sydneyvirmalised on Instagram or Virmalised – Sydney Estonian Folk Dancers on Facebook/Messenger\n 
URL:https://eesti.org.au/event-detail/virmalised-rahvatantsu-proov-folkdancing-rehearsals-14/
CATEGORIES:Casual,Community,Dancing,NSW Events
ATTACH;FMTTYPE=image/jpeg:https://eesti.org.au/wp-content/uploads/2025/10/3cd10f95-d1b5-4ec0-af42-78fafd126090-Wg4ObB.jpg
END:VEVENT
BEGIN:VEVENT
DTSTART;TZID=Australia/Sydney:20251220T133000
DTEND;TZID=Australia/Sydney:20251220T150000
DTSTAMP:20260420T004923
CREATED:20251116T221518Z
LAST-MODIFIED:20251203T015034Z
UID:68590-1766237400-1766242800@eesti.org.au
SUMMARY:„Rukkililled“ rahvatantsu proov | Ladies Folk Dancing Rehearsals
DESCRIPTION:Led by Steven Buchert\, the Rukkililled Ladies Group performs traditional Estonian folk dancing at Sydney Estonian House.
URL:https://eesti.org.au/event-detail/rukkililled-rahvatantsu-proov-ladies-folk-dancing-rehearsals-7/
LOCATION:Main hall / Ballroom
CATEGORIES:Community,Culture,Dancing,Music,NSW Events,Singing
ATTACH;FMTTYPE=image/jpeg:https://eesti.org.au/wp-content/uploads/2025/10/db07400a-c9d2-4c14-8c6b-937511cd3d44-sa8FIc.jpg
ORGANIZER;CN="Steven Buchert":MAILTO:stevenb@ozemail.com.au
END:VEVENT
BEGIN:VEVENT
DTSTART;TZID=Australia/Sydney:20251222T180000
DTEND;TZID=Australia/Sydney:20251222T210000
DTSTAMP:20260420T004923
CREATED:20251116T221518Z
LAST-MODIFIED:20251203T014940Z
UID:68592-1766426400-1766437200@eesti.org.au
SUMMARY:„Virmalised“ rahvatantsu proov | Folkdancing rehearsals
DESCRIPTION:Join us in 2025!\nWhether you’re new to Estonian dancing\, or rejoining after a hiatus\, now is the perfect time to join!\nInterested?\nContact us – sydney.virmalised@gmail.com\, @sydneyvirmalised on Instagram or Virmalised – Sydney Estonian Folk Dancers on Facebook/Messenger\n 
URL:https://eesti.org.au/event-detail/virmalised-rahvatantsu-proov-folkdancing-rehearsals-15/
CATEGORIES:Casual,Community,Dancing,NSW Events
ATTACH;FMTTYPE=image/jpeg:https://eesti.org.au/wp-content/uploads/2025/10/3cd10f95-d1b5-4ec0-af42-78fafd126090-Wg4ObB.jpg
END:VEVENT
BEGIN:VEVENT
DTSTART;TZID=Australia/Sydney:20251229T180000
DTEND;TZID=Australia/Sydney:20251229T210000
DTSTAMP:20260420T004923
CREATED:20251116T221519Z
LAST-MODIFIED:20251203T014940Z
UID:68597-1767031200-1767042000@eesti.org.au
SUMMARY:„Virmalised“ rahvatantsu proov | Folkdancing rehearsals
DESCRIPTION:Join us in 2025!\nWhether you’re new to Estonian dancing\, or rejoining after a hiatus\, now is the perfect time to join!\nInterested?\nContact us – sydney.virmalised@gmail.com\, @sydneyvirmalised on Instagram or Virmalised – Sydney Estonian Folk Dancers on Facebook/Messenger\n 
URL:https://eesti.org.au/event-detail/virmalised-rahvatantsu-proov-folkdancing-rehearsals-16/
CATEGORIES:Casual,Community,Dancing,NSW Events
ATTACH;FMTTYPE=image/jpeg:https://eesti.org.au/wp-content/uploads/2025/10/3cd10f95-d1b5-4ec0-af42-78fafd126090-Wg4ObB.jpg
END:VEVENT
END:VCALENDAR