BEGIN:VCALENDAR
VERSION:2.0
PRODID:-//HEIA - ECPv6.15.18//NONSGML v1.0//EN
CALSCALE:GREGORIAN
METHOD:PUBLISH
X-ORIGINAL-URL:https://eesti.org.au
X-WR-CALDESC:Events for HEIA
REFRESH-INTERVAL;VALUE=DURATION:PT1H
X-Robots-Tag:noindex
X-PUBLISHED-TTL:PT1H
BEGIN:VTIMEZONE
TZID:Australia/Sydney
BEGIN:STANDARD
TZOFFSETFROM:+1100
TZOFFSETTO:+1000
TZNAME:AEST
DTSTART:20250405T160000
END:STANDARD
BEGIN:DAYLIGHT
TZOFFSETFROM:+1000
TZOFFSETTO:+1100
TZNAME:AEDT
DTSTART:20251004T160000
END:DAYLIGHT
BEGIN:STANDARD
TZOFFSETFROM:+1100
TZOFFSETTO:+1000
TZNAME:AEST
DTSTART:20260404T160000
END:STANDARD
BEGIN:DAYLIGHT
TZOFFSETFROM:+1000
TZOFFSETTO:+1100
TZNAME:AEDT
DTSTART:20261003T160000
END:DAYLIGHT
BEGIN:STANDARD
TZOFFSETFROM:+1100
TZOFFSETTO:+1000
TZNAME:AEST
DTSTART:20270403T160000
END:STANDARD
BEGIN:DAYLIGHT
TZOFFSETFROM:+1000
TZOFFSETTO:+1100
TZNAME:AEDT
DTSTART:20271002T160000
END:DAYLIGHT
END:VTIMEZONE
BEGIN:VEVENT
DTSTART;TZID=Australia/Sydney:20260105T180000
DTEND;TZID=Australia/Sydney:20260105T210000
DTSTAMP:20260421T195541
CREATED:20251116T222146Z
LAST-MODIFIED:20251203T014940Z
UID:68617-1767636000-1767646800@eesti.org.au
SUMMARY:„Virmalised“ rahvatantsu proov | Folkdancing rehearsals
DESCRIPTION:Join us in 2025!\nWhether you’re new to Estonian dancing\, or rejoining after a hiatus\, now is the perfect time to join!\nInterested?\nContact us – sydney.virmalised@gmail.com\, @sydneyvirmalised on Instagram or Virmalised – Sydney Estonian Folk Dancers on Facebook/Messenger\n 
URL:https://eesti.org.au/event-detail/virmalised-rahvatantsu-proov-folkdancing-rehearsals-17/
CATEGORIES:NSW Events
ATTACH;FMTTYPE=image/jpeg:https://eesti.org.au/wp-content/uploads/2025/10/3cd10f95-d1b5-4ec0-af42-78fafd126090-Wg4ObB.jpg
END:VEVENT
BEGIN:VEVENT
DTSTART;TZID=Australia/Sydney:20260112T180000
DTEND;TZID=Australia/Sydney:20260112T210000
DTSTAMP:20260421T195541
CREATED:20251116T222203Z
LAST-MODIFIED:20251203T014940Z
UID:68625-1768240800-1768251600@eesti.org.au
SUMMARY:„Virmalised“ rahvatantsu proov | Folkdancing rehearsals
DESCRIPTION:Join us in 2025!\nWhether you’re new to Estonian dancing\, or rejoining after a hiatus\, now is the perfect time to join!\nInterested?\nContact us – sydney.virmalised@gmail.com\, @sydneyvirmalised on Instagram or Virmalised – Sydney Estonian Folk Dancers on Facebook/Messenger\n 
URL:https://eesti.org.au/event-detail/virmalised-rahvatantsu-proov-folkdancing-rehearsals-18/
CATEGORIES:NSW Events
ATTACH;FMTTYPE=image/jpeg:https://eesti.org.au/wp-content/uploads/2025/10/3cd10f95-d1b5-4ec0-af42-78fafd126090-Wg4ObB.jpg
END:VEVENT
BEGIN:VEVENT
DTSTART;TZID=Australia/Sydney:20260119T180000
DTEND;TZID=Australia/Sydney:20260119T210000
DTSTAMP:20260421T195541
CREATED:20251116T222204Z
LAST-MODIFIED:20251203T014940Z
UID:68635-1768845600-1768856400@eesti.org.au
SUMMARY:„Virmalised“ rahvatantsu proov | Folkdancing rehearsals
DESCRIPTION:Join us in 2025!\nWhether you’re new to Estonian dancing\, or rejoining after a hiatus\, now is the perfect time to join!\nInterested?\nContact us – sydney.virmalised@gmail.com\, @sydneyvirmalised on Instagram or Virmalised – Sydney Estonian Folk Dancers on Facebook/Messenger\n 
URL:https://eesti.org.au/event-detail/virmalised-rahvatantsu-proov-folkdancing-rehearsals-19/
CATEGORIES:NSW Events
ATTACH;FMTTYPE=image/jpeg:https://eesti.org.au/wp-content/uploads/2025/10/3cd10f95-d1b5-4ec0-af42-78fafd126090-Wg4ObB.jpg
END:VEVENT
BEGIN:VEVENT
DTSTART;TZID=Australia/Sydney:20260126T180000
DTEND;TZID=Australia/Sydney:20260126T210000
DTSTAMP:20260421T195541
CREATED:20251116T222221Z
LAST-MODIFIED:20251203T014940Z
UID:68647-1769450400-1769461200@eesti.org.au
SUMMARY:„Virmalised“ rahvatantsu proov | Folkdancing rehearsals
DESCRIPTION:Join us in 2025!\nWhether you’re new to Estonian dancing\, or rejoining after a hiatus\, now is the perfect time to join!\nInterested?\nContact us – sydney.virmalised@gmail.com\, @sydneyvirmalised on Instagram or Virmalised – Sydney Estonian Folk Dancers on Facebook/Messenger\n 
URL:https://eesti.org.au/event-detail/virmalised-rahvatantsu-proov-folkdancing-rehearsals-20/
CATEGORIES:NSW Events
ATTACH;FMTTYPE=image/jpeg:https://eesti.org.au/wp-content/uploads/2025/10/3cd10f95-d1b5-4ec0-af42-78fafd126090-Wg4ObB.jpg
END:VEVENT
BEGIN:VEVENT
DTSTART;TZID=Australia/Sydney:20260131T133000
DTEND;TZID=Australia/Sydney:20260131T150000
DTSTAMP:20260421T195541
CREATED:20251116T222237Z
LAST-MODIFIED:20251201T033030Z
UID:68664-1769866200-1769871600@eesti.org.au
SUMMARY:„Rukkililled“ rahvatantsu proov | Ladies Folk Dancing Rehearsals
DESCRIPTION:Led by Steven Buchert\, the Rukkililled Ladies Group performs traditional Estonian folk dancing at Sydney Estonian House.
URL:https://eesti.org.au/event-detail/rukkililled-rahvatantsu-proov-ladies-folk-dancing-rehearsals-8/
LOCATION:Main hall / Ballroom
CATEGORIES:NSW Events
ATTACH;FMTTYPE=image/jpeg:https://eesti.org.au/wp-content/uploads/2025/10/db07400a-c9d2-4c14-8c6b-937511cd3d44-sa8FIc.jpg
END:VEVENT
END:VCALENDAR