BEGIN:VCALENDAR
VERSION:2.0
PRODID:-//HEIA - ECPv6.15.18//NONSGML v1.0//EN
CALSCALE:GREGORIAN
METHOD:PUBLISH
X-WR-CALNAME:HEIA
X-ORIGINAL-URL:https://eesti.org.au
X-WR-CALDESC:Events for HEIA
REFRESH-INTERVAL;VALUE=DURATION:PT1H
X-Robots-Tag:noindex
X-PUBLISHED-TTL:PT1H
BEGIN:VTIMEZONE
TZID:Australia/Sydney
BEGIN:STANDARD
TZOFFSETFROM:+1100
TZOFFSETTO:+1000
TZNAME:AEST
DTSTART:20240406T160000
END:STANDARD
BEGIN:DAYLIGHT
TZOFFSETFROM:+1000
TZOFFSETTO:+1100
TZNAME:AEDT
DTSTART:20241005T160000
END:DAYLIGHT
BEGIN:STANDARD
TZOFFSETFROM:+1100
TZOFFSETTO:+1000
TZNAME:AEST
DTSTART:20250405T160000
END:STANDARD
BEGIN:DAYLIGHT
TZOFFSETFROM:+1000
TZOFFSETTO:+1100
TZNAME:AEDT
DTSTART:20251004T160000
END:DAYLIGHT
BEGIN:STANDARD
TZOFFSETFROM:+1100
TZOFFSETTO:+1000
TZNAME:AEST
DTSTART:20260404T160000
END:STANDARD
BEGIN:DAYLIGHT
TZOFFSETFROM:+1000
TZOFFSETTO:+1100
TZNAME:AEDT
DTSTART:20261003T160000
END:DAYLIGHT
END:VTIMEZONE
BEGIN:VEVENT
DTSTART;TZID=Australia/Sydney:20251207T110000
DTEND;TZID=Australia/Sydney:20251207T130000
DTSTAMP:20260420T103527
CREATED:20251116T002008Z
LAST-MODIFIED:20251206T064448Z
UID:68522-1765105200-1765112400@eesti.org.au
SUMMARY:Sydney Mudilasring - Estonian Children’s Playgroup in Sydney
DESCRIPTION:Sydney Mudilasring on mängugrupp kõige noorematele Sydney piirkonna Eesti kogukonna liikmetele. Mänguring koguneb iga kahe nädala tagant Sydney Eesti Majas\, kus lapsed ja nende vanemad laulavad Eesti lastelaule\, tantsivad\, loevad raamatuid ja teevad käsitööd.\nPaar korda aastas kohtub mänguring väljaspool Eesti maja\, et külastada Sydney Ooperimaja\, loomaaeda või teha mõnda muud lõbusat tegevust.\nMänguringi lapsed esinevad ka mitmetel sündmustel Sydney Eesti Majas\, nagu emadepäeva tähistamine\, (Taas)iseseisvuspäev jne.\nSydney Mudilasringil on umbes 15 aktiivset perekonda\, kes osalevad mänguringi tegevustes regulaarselt.\nAlates 2022. aastast on Sydney Mudilasringi lapsed on külastanud Eesti küla Thirlmeres ja toimunud on paar pülvakondadeülest kohtumist Eesti Majas.\nSydney Mudilasringi juhib Elen Ellervee.\nSydneys Mudilasringi toetavad:Eesti Kultuuri SA Austraalias – ECFAEesti Instituut\nKüsimuste korral võta ühendust õpetajaga – Elen 0403627640\nÜhe tunni tasu $10 või aastamaks $50\, mis sisaldab Eesti seltsi liikmemaksu\, 25x2h tundi sh mõned kontsertid ja ekskursioonid väljaspool maja on lapsele tasuta\n—————————————————————————————————————————————————–\nSydney Mudilasring is a playgroup for the youngest members of the Estonian community in Sydney area. The playgroup meets every two weeks at the Sydney Estonian House where the children\, and their parents\, sing Estonian children’s songs\, dance\, read books and do crafts.\nA couple of times a year the playgroup meets outside Estonian house to visit a Sydney Opera House event\, wildlife park or some other fun activity.\nThe children of the playgroup also perform at several events at the Sydney Estonian House\, such as Mother’s Day celebration\, (Re-)Independence Day etc.\nSydney Mudilasring has about 15 active families who attend the playgroup activities all year round.\nSince 2022 Sydney Mudilasring has an intergenerational play program with the aim of connecting the younger and older generations of Estonians in Sydney. The children have visited the Estonian Village in Thirlmere and a couple of meetings have taken place at the Estonian House.\nSydney Mudilasring is run by Elen Ellervee\nTo participate in the playgroup\, you have to be a member of a Mudilasring which costs $50 pp/annually and a member of Sydney Eesti Selts.\nContact: mudilasring@eesti.org.au
URL:https://eesti.org.au/event-detail/sydney-mudilasring-estonian-childrens-playgroup-in-sydney-2/
LOCATION:Sydney Estonian House\, 141 Campbell St\, Surry Hills\, NSW\, 2010\, Australia
CATEGORIES:Art,Casual,Community,Culture,Dancing,Handicrafts,Language,Music,NSW Events,Playgroup,recurring-event,Singing
ATTACH;FMTTYPE=image/jpeg:https://eesti.org.au/wp-content/uploads/2025/10/486454943_10227879303515976_6134096739852609533_n-OL3s2M.jpg
ORGANIZER;CN="Mudilasring":MAILTO:mudilasring@eesti.org.au
END:VEVENT
BEGIN:VEVENT
DTSTART;TZID=Australia/Sydney:20251207T143000
DTEND;TZID=Australia/Sydney:20251207T160000
DTSTAMP:20260420T103527
CREATED:20251116T220957Z
LAST-MODIFIED:20251203T033805Z
UID:68566-1765117800-1765123200@eesti.org.au
SUMMARY:Laste rahvatants - Estonian Children's Folkdancingf
DESCRIPTION:UUS laste rahvatantsurühm LEPATRIINUD alustab 9. veebruaril 2025 kl 14.30-16 Sydney Eesti Majas!NEW Estonian Children’s Folkdancing classes every 2nd Sunday of the month at 2.30-4pm at Sydney Estonian House!Contact Maali 0426 836 547
URL:https://eesti.org.au/event-detail/laste-rahvatants-estonian-childrens-folkdancing-3/
LOCATION:141 Campbell St\, Surry Hills\, 2010\, Australia
CATEGORIES:Community,Culture,Dancing,NSW Events
ATTACH;FMTTYPE=image/jpeg:https://eesti.org.au/wp-content/uploads/2025/01/8c00dc36-b3aa-41fc-ab80-65cd43f871ac-9kC2Gj.tmp_.jpg
ORGANIZER;CN="Virmalised - Sydney Estonian Folk Dancers":MAILTO:sydney.virmalised@gmail.com
END:VEVENT
END:VCALENDAR